BEGIN:VCALENDAR
VERSION:2.0
PRODID:-//eventon.com NONSGML v1.0//EN
CALSCALE:GREGORIAN
METHOD:PUBLISH
BEGIN:VEVENT
UID:69e8926889a9c
DTSTAMP:20260422T091832Z
DTSTART:20230325T130000Z
DTEND:20230325T160000Z
LOCATION:128 Av. de la ForÃªt\,  62360 La Capelle-lÃ¨s-Boulogne
SUMMARY:Atelier planche Ã  dÃ©couper
DESCRIPTION:Lors de cet atelier : Vous souhaitez lors de votre prochain apÃ
 ©ro Ã©pater vos amis et prÃ©senter votre propre fabrication de votre planch
 e apÃ©ro ou Ã  dÃ©couper. Et bien cet atelier est fait pour vous A partir d
 â€™une simple planche de bois\,  tracer\,  dÃ©couper\,  profiler\,  poncer 
 et protÃ©ger votre crÃ©ation[..]\nhttps://ericbrachet-tourneursurbois.com/e
 vents/atelier-planche-a-decouper/var/ri-1.l-L1
URL:https://ericbrachet-tourneursurbois.com/events/atelier-planche-a-decouper/var/ri-1.l-L1
END:VEVENT
END:VCALENDAR